BEGIN:VCALENDAR
VERSION:2.0
PRODID:LFV Website-Kit
METHOD:PUBLISH
BEGIN:VEVENT
UID:lfv-3016d659-bae8-411b-82cf-dd4c66abf0fd
LOCATION:
SUMMARY:Kameradschaftsabend
DESCRIPTION:Kameradschaftsabend\n\nTermin Link: https://www.ff-krombach.de/aktuelles/termine/kameradschaftsabend-8/
URL:https://www.ff-krombach.de/aktuelles/termine/kameradschaftsabend-8/
CLASS:PRIVATE
DTSTART;TZID=Europe/Berlin:20260819T193000
DTEND;TZID=Europe/Berlin:20260819T210000
DTSTAMP:20260421T104439Z
END:VEVENT
END:VCALENDAR