BEGIN:VCALENDAR
VERSION:2.0
PRODID:LFV Website-Kit
METHOD:PUBLISH
BEGIN:VEVENT
UID:lfv-614642f0-b297-47bd-985c-7b8524915b5c
LOCATION:
SUMMARY:Kameradschaftsabend
DESCRIPTION:Kameradschaftsabend\n\nTermin Link: https://www.ff-krombach.de/aktuelles/termine/kameradschaftsabend-7/
URL:https://www.ff-krombach.de/aktuelles/termine/kameradschaftsabend-7/
CLASS:PRIVATE
DTSTART;TZID=Europe/Berlin:20260610T193000
DTEND;TZID=Europe/Berlin:20260610T210000
DTSTAMP:20260421T103437Z
END:VEVENT
END:VCALENDAR