BEGIN:VCALENDAR
VERSION:2.0
PRODID:LFV Website-Kit
METHOD:PUBLISH
BEGIN:VEVENT
UID:lfv-315f4fd6-51c8-47c0-84ef-e84caac3f9c3
LOCATION:
SUMMARY:Kameradschaftsabend
DESCRIPTION:Kameradschaftsabend\n\nTermin Link: https://www.ff-krombach.de/aktuelles/termine/kameradschaftsabend-6/
URL:https://www.ff-krombach.de/aktuelles/termine/kameradschaftsabend-6/
CLASS:PRIVATE
DTSTART;TZID=Europe/Berlin:20260422T193000
DTEND;TZID=Europe/Berlin:20260422T210000
DTSTAMP:20260423T084915Z
END:VEVENT
END:VCALENDAR